BEGIN:VCALENDAR
VERSION:2.0
PRODID:-//Riverside Foundation - ECPv6.15.14//NONSGML v1.0//EN
CALSCALE:GREGORIAN
METHOD:PUBLISH
X-ORIGINAL-URL:https://www.riversidefoundation.net
X-WR-CALDESC:Events for Riverside Foundation
REFRESH-INTERVAL;VALUE=DURATION:PT1H
X-Robots-Tag:noindex
X-PUBLISHED-TTL:PT1H
BEGIN:VTIMEZONE
TZID:UTC
BEGIN:STANDARD
TZOFFSETFROM:+0000
TZOFFSETTO:+0000
TZNAME:UTC
DTSTART:20240101T000000
END:STANDARD
END:VTIMEZONE
BEGIN:VEVENT
DTSTART;TZID=UTC:20251213T090000
DTEND;TZID=UTC:20251213T160000
DTSTAMP:20260425T175920
CREATED:20250208T135939Z
LAST-MODIFIED:20251118T173150Z
UID:3136-1765616400-1765641600@www.riversidefoundation.net
SUMMARY:2025 Santa Photos
DESCRIPTION:Mark Your Calendars!\nGet ready! Santa is coming to the Riverside Foundation! On Saturday\, December 6th\, join us for an unforgettable day filled with festive spirit\, holiday cheer\, and plenty of smiling faces. \nSecure your tickets by clicking the button below. \nDon’t miss the chance to capture the magic of the season with Santa Claus himself! \nTICKETS \n \n  \n________________________
URL:https://www.riversidefoundation.net/events/santa-photos/
CATEGORIES:Holiday
ATTACH;FMTTYPE=image/png:https://www.riversidefoundation.net/wp-content/uploads/2023/11/RF_SANTA_PHOTOS_LOGO.png
END:VEVENT
BEGIN:VEVENT
DTSTART;TZID=UTC:20251211T180000
DTEND;TZID=UTC:20251211T210000
DTSTAMP:20260425T175920
CREATED:20250210T135900Z
LAST-MODIFIED:20251118T213905Z
UID:3134-1765476000-1765486800@www.riversidefoundation.net
SUMMARY:2025 Holiday House Walk
DESCRIPTION:Save the Date! 12.11.25\nThe holidays are right around the corner\, and so is this year’s 2025 Holiday House Walk! \nJoin us on Thursday\, December 11th\, for an unforgettable evening filled with beautifully decorated homes\, warm hospitality\, seasonal refreshments\, and festive treats. \nDon’t miss out on this magical tradition that brings the season to life! More details to follow coming soon! \nClick the button below to get your tickets! \nTICKETS \n \n________________________
URL:https://www.riversidefoundation.net/events/holiday-house-walk/
CATEGORIES:Holiday
ATTACH;FMTTYPE=image/png:https://www.riversidefoundation.net/wp-content/uploads/2023/11/RF_HOLIDAY_HOUSE_WALK_LOGO.png
END:VEVENT
BEGIN:VEVENT
DTSTART;VALUE=DATE:20251202
DTEND;VALUE=DATE:20260102
DTSTAMP:20260425T175920
CREATED:20250214T135832Z
LAST-MODIFIED:20251104T135321Z
UID:3132-1764633600-1767311999@www.riversidefoundation.net
SUMMARY:2025 Giving Tuesday
DESCRIPTION:Giving Tuesday Matters!\n\n\n\n\nAny donation of $275 or more made between 11/2/25-12/2/25 will be matched to a total of $15\,000!\n\n\n\n\n\n#GiveRiverside\nGIVING TUESDAY DONATION
URL:https://www.riversidefoundation.net/events/giving-tuesday/
CATEGORIES:Holiday
ATTACH;FMTTYPE=image/png:https://www.riversidefoundation.net/wp-content/uploads/2022/10/GIVERIVERSIDE-LOGO-copy.png
END:VEVENT
BEGIN:VEVENT
DTSTART;TZID=UTC:20251111T183000
DTEND;TZID=UTC:20251111T200000
DTSTAMP:20260425T175920
CREATED:20250212T135743Z
LAST-MODIFIED:20251104T135302Z
UID:3130-1762885800-1762891200@www.riversidefoundation.net
SUMMARY:2025 Sip n’ Shop for a Cause
DESCRIPTION:15% of the evening’s sales will be donated back to the Riverside Foundation. Help us continue our important work!
URL:https://www.riversidefoundation.net/events/sip-n-shop-for-a-cause/
CATEGORIES:Holiday
ATTACH;FMTTYPE=image/jpeg:https://www.riversidefoundation.net/wp-content/uploads/2023/11/RF_2024_SIP-N-SHOP_THUMB.jpg
END:VEVENT
BEGIN:VEVENT
DTSTART;VALUE=DATE:20250929
DTEND;VALUE=DATE:20250930
DTSTAMP:20260425T175920
CREATED:20250430T163555Z
LAST-MODIFIED:20251020T211910Z
UID:6370-1759104000-1759190399@www.riversidefoundation.net
SUMMARY:2025 Golf Outing
DESCRIPTION:We want to extend our heartfelt thanks to everyone who donated\, participated\, and supported our recent Golf Outing. Because of YOU\, we’re thrilled to share that we raised an incredible: \n$41\,000! \n\nRiverside Foundation 2025 Golf Outing Image Gallery:\n\n        \n            \n                                                \n\n                                        \n                        RSF_2025_GOLF-20RSF_2025_GOLF-24RSF_2025_GOLF-05RSF_2025_GOLF-06RSF_2025_GOLF-07RSF_2025_GOLF-32RSF_2025_GOLF-09RSF_2025_GOLF-10RSF_2025_GOLF-36RSF_2025_GOLF-11RSF_2025_GOLF-12RSF_2025_GOLF-13RSF_2025_GOLF-14RSF_2025_GOLF-16RSF_2025_GOLF-37RSF_2025_GOLF-17RSF_2025_GOLF-18RSF_2025_GOLF-27RSF_2025_GOLF-29RSF_2025_GOLF-40RSF_2025_GOLF-51                    \n\n                                    \n            \n        \n        \n\n\n_
URL:https://www.riversidefoundation.net/events/2025-golf-outing/
CATEGORIES:Golf Outing
ATTACH;FMTTYPE=image/png:https://www.riversidefoundation.net/wp-content/uploads/2023/08/golf_outing_logo.png
END:VEVENT
BEGIN:VEVENT
DTSTART;VALUE=DATE:20250921
DTEND;VALUE=DATE:20250922
DTSTAMP:20260425T175920
CREATED:20250218T164619Z
LAST-MODIFIED:20251021T152711Z
UID:6378-1758412800-1758499199@www.riversidefoundation.net
SUMMARY:2025 Halloween Hustle 5K Walk and Run
DESCRIPTION:Thank you for joining us!\nRiverside Foundation Halloween Hustle 5K Walk or Run\n\n\n\n__________________________________________________________________ \n\n        \n            \n                                                \n\n                                        \n                        RSF_2025_HALLOWEEN-532RSF_2025_HALLOWEEN-555RSF_2025_HALLOWEEN-554RSF_2025_HALLOWEEN-553RSF_2025_HALLOWEEN-550RSF_2025_HALLOWEEN-547RSF_2025_HALLOWEEN-536RSF_2025_HALLOWEEN-509RSF_2025_HALLOWEEN-503RSF_2025_HALLOWEEN-376RSF_2025_HALLOWEEN-254RSF_2025_HALLOWEEN-229RSF_2025_HALLOWEEN-175RSF_2025_HALLOWEEN-110RSF_2025_HALLOWEEN-082RSF_2025_HALLOWEEN-078RSF_2025_HALLOWEEN-077RSF_2025_HALLOWEEN-061RSF_2025_HALLOWEEN-052RSF_2025_HALLOWEEN-044RSF_2025_HALLOWEEN-025RSF_2025_HALLOWEEN-014RSF_2025_HALLOWEEN-012RSF_2025_HALLOWEEN-010RSF_2025_HALLOWEEN-007RSF_2025_HALLOWEEN-005RSF_2025_HALLOWEEN-004                    \n\n                                    \n            \n        \n        \n__________________________________________________________________ \nPresented by Riverside Foundation and the Riverside Foundation Women’s Board \n\n\n\n\n\n\n\n\n\n\nWould you like to support next year’s event?\nRiversideFoundation5k@yahoo.com
URL:https://www.riversidefoundation.net/events/2025-halloween-hustle-5k/
LOCATION:Half Day Brewing Co.\, 200 Village Green\, Lincolnshire\, IL\, 60069\, United States
CATEGORIES:5K Oktoberfest Run/Walk
ATTACH;FMTTYPE=image/png:https://www.riversidefoundation.net/wp-content/uploads/2025/02/2025_RSF_HALLOWEEN_HUSTLE_5K_LOGO.png
END:VEVENT
BEGIN:VEVENT
DTSTART;TZID=UTC:20250418T180000
DTEND;TZID=UTC:20260418T230000
DTSTAMP:20260425T175920
CREATED:20250225T165444Z
LAST-MODIFIED:20260221T055028Z
UID:6385-1744999200-1776553200@www.riversidefoundation.net
SUMMARY:2026 Hearts of Gold Gala - Buy Your Tickets Today!
DESCRIPTION:Pre-Gala Raffle: Electrifying Entertainment Getaway for Two\nEnter before the gala for your chance to win. \nWe are offering only 100 raffle tickets at $100 each for this exclusive live entertainment getaway for two. \nImportant Details: \n\n\nPurchase tickets on our website. \n\n\nPre-gala raffle — tickets are expected to sell out before the event. \n\n\nOnly 100 tickets available. \n\n\nWinner does not need to be present to win. \n\n\nAir travel is not included. \n\n\nFrom the cutting-edge spectacle of The Sphere in Las Vegas to the breathtaking Red Rocks Amphitheatre… from the bright lights of Broadway to the soulful rhythms of New Orleans… or the iconic Grand Ole Opry in Nashville— the winner selects their preferred destination and experience. \nEach package includes: \n\n\nPremier show access \n\n\nLuxury accommodations \n\n\nCurated dining experiences \n\n\nFive legendary destinations.\nOne unforgettable escape.\nOnly 100 chances to win. \nBUY TICKETS TODAY  \n\nWant to donate or be an event sponsor?  \nFor questions about the event
URL:https://www.riversidefoundation.net/events/2026-hearts-of-gold-gala/
LOCATION:The Birchstone\, 200 Barclay Blvd\, Lincolnshire\, IL\, 60069\, United States
CATEGORIES:Hearts of Gold Gala
ATTACH;FMTTYPE=image/png:https://www.riversidefoundation.net/wp-content/uploads/2025/02/RSF_50TH_ANNIVERSARY_OSCAR_LOGO.png
END:VEVENT
END:VCALENDAR